BEGIN:VCALENDAR
VERSION:2.0
PRODID:-//Nooksack Indian Tribe  - ECPv6.15.20//NONSGML v1.0//EN
CALSCALE:GREGORIAN
METHOD:PUBLISH
X-ORIGINAL-URL:https://nooksacktribe.org
X-WR-CALDESC:Events for Nooksack Indian Tribe 
REFRESH-INTERVAL;VALUE=DURATION:PT1H
X-Robots-Tag:noindex
X-PUBLISHED-TTL:PT1H
BEGIN:VTIMEZONE
TZID:America/Los_Angeles
BEGIN:DAYLIGHT
TZOFFSETFROM:-0800
TZOFFSETTO:-0700
TZNAME:PDT
DTSTART:20240310T100000
END:DAYLIGHT
BEGIN:STANDARD
TZOFFSETFROM:-0700
TZOFFSETTO:-0800
TZNAME:PST
DTSTART:20241103T090000
END:STANDARD
BEGIN:DAYLIGHT
TZOFFSETFROM:-0800
TZOFFSETTO:-0700
TZNAME:PDT
DTSTART:20250309T100000
END:DAYLIGHT
BEGIN:STANDARD
TZOFFSETFROM:-0700
TZOFFSETTO:-0800
TZNAME:PST
DTSTART:20251102T090000
END:STANDARD
BEGIN:DAYLIGHT
TZOFFSETFROM:-0800
TZOFFSETTO:-0700
TZNAME:PDT
DTSTART:20260308T100000
END:DAYLIGHT
BEGIN:STANDARD
TZOFFSETFROM:-0700
TZOFFSETTO:-0800
TZNAME:PST
DTSTART:20261101T090000
END:STANDARD
END:VTIMEZONE
BEGIN:VEVENT
DTSTART;TZID=America/Los_Angeles:20250731T080000
DTEND;TZID=America/Los_Angeles:20250805T170000
DTSTAMP:20260421T141142
CREATED:20250713T025646Z
LAST-MODIFIED:20251217T010050Z
UID:17752-1753948800-1754413200@nooksacktribe.org
SUMMARY:Lower Elwha Canoe Journey Protocol
DESCRIPTION:Please join in supporting our Nooksack Canoe crew at Protocol during the final landing at Lower Elwha. \nPlease Follow Link for more information: \nHome
URL:https://nooksacktribe.org/event/lower-elwha-canoe-journey-protocol/
LOCATION:WA
ATTACH;FMTTYPE=image/jpeg:https://eadn-wc04-17114753.nxedge.io/wp-content/uploads/2025/07/P2E-2025-Route-Map-July-1-pdf.jpg
END:VEVENT
END:VCALENDAR