BEGIN:VCALENDAR
VERSION:2.0
PRODID:-//Nooksack Indian Tribe  - ECPv6.15.20//NONSGML v1.0//EN
CALSCALE:GREGORIAN
METHOD:PUBLISH
X-WR-CALNAME:Nooksack Indian Tribe 
X-ORIGINAL-URL:https://nooksacktribe.org
X-WR-CALDESC:Events for Nooksack Indian Tribe 
REFRESH-INTERVAL;VALUE=DURATION:PT1H
X-Robots-Tag:noindex
X-PUBLISHED-TTL:PT1H
BEGIN:VTIMEZONE
TZID:America/Los_Angeles
BEGIN:DAYLIGHT
TZOFFSETFROM:-0800
TZOFFSETTO:-0700
TZNAME:PDT
DTSTART:20240310T100000
END:DAYLIGHT
BEGIN:STANDARD
TZOFFSETFROM:-0700
TZOFFSETTO:-0800
TZNAME:PST
DTSTART:20241103T090000
END:STANDARD
BEGIN:DAYLIGHT
TZOFFSETFROM:-0800
TZOFFSETTO:-0700
TZNAME:PDT
DTSTART:20250309T100000
END:DAYLIGHT
BEGIN:STANDARD
TZOFFSETFROM:-0700
TZOFFSETTO:-0800
TZNAME:PST
DTSTART:20251102T090000
END:STANDARD
BEGIN:DAYLIGHT
TZOFFSETFROM:-0800
TZOFFSETTO:-0700
TZNAME:PDT
DTSTART:20260308T100000
END:DAYLIGHT
BEGIN:STANDARD
TZOFFSETFROM:-0700
TZOFFSETTO:-0800
TZNAME:PST
DTSTART:20261101T090000
END:STANDARD
END:VTIMEZONE
BEGIN:VEVENT
DTSTART;TZID=America/Los_Angeles:20250923T180000
DTEND;TZID=America/Los_Angeles:20250923T220000
DTSTAMP:20260421T122805
CREATED:20250825T163746Z
LAST-MODIFIED:20251217T005026Z
UID:17821-1758650400-1758664800@nooksacktribe.org
SUMMARY:Nooksack Days Cultural Activities Night
DESCRIPTION:
URL:https://nooksacktribe.org/event/nooksack-days-cultural-activities-night-2/
LOCATION:Mi’sq’eq’o Building\, 2515 Sulwhanon Dr\, Everson\, WA 98247\, Everson\, WA\, 98247\, United States
ATTACH;FMTTYPE=image/png:https://eadn-wc04-17114753.nxedge.io/wp-content/uploads/2025/08/1.png
END:VEVENT
END:VCALENDAR