BEGIN:VCALENDAR
VERSION:2.0
PRODID:-//Nooksack Indian Tribe  - ECPv6.15.20//NONSGML v1.0//EN
CALSCALE:GREGORIAN
METHOD:PUBLISH
X-ORIGINAL-URL:https://nooksacktribe.org
X-WR-CALDESC:Events for Nooksack Indian Tribe 
REFRESH-INTERVAL;VALUE=DURATION:PT1H
X-Robots-Tag:noindex
X-PUBLISHED-TTL:PT1H
BEGIN:VTIMEZONE
TZID:America/Los_Angeles
BEGIN:DAYLIGHT
TZOFFSETFROM:-0800
TZOFFSETTO:-0700
TZNAME:PDT
DTSTART:20240310T100000
END:DAYLIGHT
BEGIN:STANDARD
TZOFFSETFROM:-0700
TZOFFSETTO:-0800
TZNAME:PST
DTSTART:20241103T090000
END:STANDARD
BEGIN:DAYLIGHT
TZOFFSETFROM:-0800
TZOFFSETTO:-0700
TZNAME:PDT
DTSTART:20250309T100000
END:DAYLIGHT
BEGIN:STANDARD
TZOFFSETFROM:-0700
TZOFFSETTO:-0800
TZNAME:PST
DTSTART:20251102T090000
END:STANDARD
BEGIN:DAYLIGHT
TZOFFSETFROM:-0800
TZOFFSETTO:-0700
TZNAME:PDT
DTSTART:20260308T100000
END:DAYLIGHT
BEGIN:STANDARD
TZOFFSETFROM:-0700
TZOFFSETTO:-0800
TZNAME:PST
DTSTART:20261101T090000
END:STANDARD
END:VTIMEZONE
BEGIN:VEVENT
DTSTART;TZID=America/Los_Angeles:20250531T103000
DTEND;TZID=America/Los_Angeles:20250601T170000
DTSTAMP:20260421T154157
CREATED:20250510T175027Z
LAST-MODIFIED:20251217T010541Z
UID:17601-1748687400-1748797200@nooksacktribe.org
SUMMARY:Nooksack Days Canoe Races
DESCRIPTION:Come out for a fun filled weekend of canoe racing. Saturday and Sunday at Bloedel Park in Bellingham.
URL:https://nooksacktribe.org/event/nooksack-days-canoe-races-2/
LOCATION:Bloedel Donovan Park\, 2114 Electric Avenue\, Bellingham\, WA\, 98229\, United States
ATTACH;FMTTYPE=application/pdf:https://nooksacktribe.org/wp-content/uploads/2025/05/Flyer_NIT_CanoeRaces.pdf
END:VEVENT
BEGIN:VEVENT
DTSTART;TZID=America/Los_Angeles:20250612T120000
DTEND;TZID=America/Los_Angeles:20250612T170000
DTSTAMP:20260421T154157
CREATED:20250612T235320Z
LAST-MODIFIED:20250612T235320Z
UID:499-1749729600-1749747600@nooksacktribe.org
SUMMARY:Youth Education & NWOL Program Celebration
DESCRIPTION:Enjoy a BBQ with Youth\, Education and NWOL Program on Thursday\, June 12 from 12pm to 5pm. At the Mi’sq’eq’o Building. Application renewals will take place on site and online.
URL:https://nooksacktribe.org/event/youth-education-nwol-program-celebration/
LOCATION:Mi’sq’eq’o Building\, 2515 Sulwhanon Dr\, Everson\, WA 98247\, Everson\, WA\, 98247\, United States
ATTACH;FMTTYPE=image/jpeg:https://eadn-wc04-17114753.nxedge.io/wp-content/uploads/2025/06/NWOLEvent.jpg
END:VEVENT
BEGIN:VEVENT
DTSTART;TZID=America/Los_Angeles:20250620T150000
DTEND;TZID=America/Los_Angeles:20250620T170000
DTSTAMP:20260421T154157
CREATED:20250613T000702Z
LAST-MODIFIED:20250613T000702Z
UID:509-1750431600-1750438800@nooksacktribe.org
SUMMARY:Gathering Our Gifts
DESCRIPTION:Come and join us Mondays\, Wednesdays & Fridays for community classes from 3-5pm at the PPE Building in Deming.
URL:https://nooksacktribe.org/event/gathering-our-gifts/
LOCATION:PPE Building\, 4963 Deming Rd\, Deming\, WA\, 98244\, United States
ATTACH;FMTTYPE=image/jpeg:https://eadn-wc04-17114753.nxedge.io/wp-content/uploads/2025/06/GatheringOurGiftsCooking.jpg
END:VEVENT
BEGIN:VEVENT
DTSTART;TZID=America/Los_Angeles:20250628T090000
DTEND;TZID=America/Los_Angeles:20250628T120000
DTSTAMP:20260421T154157
CREATED:20250510T175623Z
LAST-MODIFIED:20251217T011107Z
UID:17608-1751101200-1751112000@nooksacktribe.org
SUMMARY:Community Breakfast
DESCRIPTION:Please join us for our quarterly community breakfast. Food\, door prizes and craft vendors. \n 
URL:https://nooksacktribe.org/event/community-breakfast-5/
LOCATION:Mi’sq’eq’o Building\, 2515 Sulwhanon Dr\, Everson\, WA 98247\, Everson\, WA\, 98247\, United States
ATTACH;FMTTYPE=image/jpeg:https://eadn-wc04-17114753.nxedge.io/wp-content/uploads/2025/05/Community-Breakfast-June-28th.jpg
END:VEVENT
BEGIN:VEVENT
DTSTART;TZID=America/Los_Angeles:20250628T090000
DTEND;TZID=America/Los_Angeles:20250628T120000
DTSTAMP:20260421T154157
CREATED:20250613T000856Z
LAST-MODIFIED:20251217T011012Z
UID:513-1751101200-1751112000@nooksacktribe.org
SUMMARY:Community Breakfast
DESCRIPTION:Please join us for our quarterly community breakfast. Food\, door prizes and craft vendors.
URL:https://nooksacktribe.org/event/community-breakfast/
LOCATION:Mi’sq’eq’o Building\, 2515 Sulwhanon Dr\, Everson\, WA 98247\, Everson\, WA\, 98247\, United States
ATTACH;FMTTYPE=image/jpeg:https://eadn-wc04-17114753.nxedge.io/wp-content/uploads/2025/06/NooksackCommunityBfast.jpg
END:VEVENT
END:VCALENDAR