BEGIN:VCALENDAR
VERSION:2.0
PRODID:-//Nooksack Indian Tribe  - ECPv6.15.20//NONSGML v1.0//EN
CALSCALE:GREGORIAN
METHOD:PUBLISH
X-WR-CALNAME:Nooksack Indian Tribe 
X-ORIGINAL-URL:https://nooksacktribe.org
X-WR-CALDESC:Events for Nooksack Indian Tribe 
REFRESH-INTERVAL;VALUE=DURATION:PT1H
X-Robots-Tag:noindex
X-PUBLISHED-TTL:PT1H
BEGIN:VTIMEZONE
TZID:America/Los_Angeles
BEGIN:DAYLIGHT
TZOFFSETFROM:-0800
TZOFFSETTO:-0700
TZNAME:PDT
DTSTART:20240310T100000
END:DAYLIGHT
BEGIN:STANDARD
TZOFFSETFROM:-0700
TZOFFSETTO:-0800
TZNAME:PST
DTSTART:20241103T090000
END:STANDARD
BEGIN:DAYLIGHT
TZOFFSETFROM:-0800
TZOFFSETTO:-0700
TZNAME:PDT
DTSTART:20250309T100000
END:DAYLIGHT
BEGIN:STANDARD
TZOFFSETFROM:-0700
TZOFFSETTO:-0800
TZNAME:PST
DTSTART:20251102T090000
END:STANDARD
BEGIN:DAYLIGHT
TZOFFSETFROM:-0800
TZOFFSETTO:-0700
TZNAME:PDT
DTSTART:20260308T100000
END:DAYLIGHT
BEGIN:STANDARD
TZOFFSETFROM:-0700
TZOFFSETTO:-0800
TZNAME:PST
DTSTART:20261101T090000
END:STANDARD
END:VTIMEZONE
BEGIN:VEVENT
DTSTART;TZID=America/Los_Angeles:20250710T180000
DTEND;TZID=America/Los_Angeles:20250710T220000
DTSTAMP:20260421T140918
CREATED:20250611T174456Z
LAST-MODIFIED:20250611T174456Z
UID:17673-1752170400-1752184800@nooksacktribe.org
SUMMARY:Graduation Dinner
DESCRIPTION:Celebrating our Graduates! Please join us at the community center for dinner and festivities at 6pm \nhttps://nooksacktribe.org/?attachment_id=17674<\img>
URL:https://nooksacktribe.org/event/graduation-dinner/
LOCATION:WA
END:VEVENT
BEGIN:VEVENT
DTSTART;VALUE=DATE:20250723
DTEND;VALUE=DATE:20250724
DTSTAMP:20260421T140918
CREATED:20250708T165551Z
LAST-MODIFIED:20251217T010745Z
UID:17727-1753228800-1753315199@nooksacktribe.org
SUMMARY:Canoe Journey - Nooksack Landing
DESCRIPTION:Come and join us for our canoe journey landing! Dinner provided followed by a jam session. Dinner time varies\, but is usually between 4 & 6pm. \nWhere: Birch Bay State Park\, BP Heron Center\n7290 Birch Bay Dr.\nBlaine\, WA 98230 \nSoft Landing: Sunset Park
URL:https://nooksacktribe.org/event/canoe-journey-nooksack-landing/
LOCATION:BP Heron Center\, Bellingham\, Washington\, 98225\, United States
ATTACH;FMTTYPE=:
END:VEVENT
BEGIN:VEVENT
DTSTART;TZID=America/Los_Angeles:20250731T080000
DTEND;TZID=America/Los_Angeles:20250805T170000
DTSTAMP:20260421T140918
CREATED:20250713T025646Z
LAST-MODIFIED:20251217T010050Z
UID:17752-1753948800-1754413200@nooksacktribe.org
SUMMARY:Lower Elwha Canoe Journey Protocol
DESCRIPTION:Please join in supporting our Nooksack Canoe crew at Protocol during the final landing at Lower Elwha. \nPlease Follow Link for more information: \nHome
URL:https://nooksacktribe.org/event/lower-elwha-canoe-journey-protocol/
LOCATION:WA
ATTACH;FMTTYPE=image/jpeg:https://eadn-wc04-17114753.nxedge.io/wp-content/uploads/2025/07/P2E-2025-Route-Map-July-1-pdf.jpg
END:VEVENT
END:VCALENDAR